View In:
ArcGIS JavaScript
ArcGIS Online Map Viewer
ArcGIS Earth
Service Description: RasterAnalysis/SuitabilityRasterTestScenario2
Name: RasterAnalysis/SuitabilityRasterTestScenario2
Description:
Single Fused Map Cache: false
Extent:
XMin: 2001468.6113238053
YMin: 644105.348464564
XMax: 2221284.4446571385
YMax: 846860.8484645637
Spatial Reference: 102719
(2264)
LatestVCSWkid(0)
Initial Extent:
XMin: 2001468.6113238053
YMin: 644105.348464564
XMax: 2221284.4446571385
YMax: 846860.8484645637
Spatial Reference: 102719
(2264)
LatestVCSWkid(0)
Full Extent:
XMin: 2001468.6113238053
YMin: 644105.348464564
XMax: 2221284.4446571385
YMax: 846860.8484645637
Spatial Reference: 102719
(2264)
LatestVCSWkid(0)
Pixel Size X: 328.0833333333332
Pixel Size Y: 328.083333333333
Band Count: 1
Pixel Type: F32
RasterFunction Infos: {"rasterFunctionInfos": [{
"name": "None",
"description": "",
"help": ""
}]}
Mensuration Capabilities: Basic
Inspection Capabilities:
Has Histograms: true
Has Colormap: false
Has Multi Dimensions : false
Rendering Rule:
Min Scale: 0
Max Scale: 0
Copyright Text:
Service Data Type: esriImageServiceDataTypeGeneric
Min Values: -2.3841858265427618E-8
Max Values: 0.5648525357246399
Mean Values: 0.12980023845735067
Standard Deviation Values: 0.05177932738686033
Object ID Field:
Fields:
None
Default Mosaic Method: Center
Allowed Mosaic Methods:
SortField:
SortValue: null
Mosaic Operator: First
Default Compression Quality: 75
Default Resampling Method: Nearest
Max Record Count: null
Max Image Height: 4100
Max Image Width: 15000
Max Download Image Count: null
Max Mosaic Image Count: null
Allow Raster Function: true
Allow Copy: true
Allow Analysis: true
Allow Compute TiePoints: false
Supports Statistics: false
Supports Advanced Queries: false
Use StandardizedQueries: true
Raster Type Infos:
Name: Raster Dataset
Description: Supports all ArcGIS Raster Datasets
Help:
Has Raster Attribute Table: false
Edit Fields Info: null
Ownership Based AccessControl For Rasters: null
Child Resources:
Info
Histograms
Statistics
Key Properties
Legend
Raster Function Infos
Supported Operations:
Export Image
Identify
Measure
Compute Histograms
Compute Statistics Histograms
Get Samples
Compute Class Statistics
Query Boundary
Compute Pixel Location
Compute Angles
Validate
Project