View In:
ArcGIS JavaScript
ArcGIS Online Map Viewer
ArcGIS Earth
Service Description: Density of No Vehicle Household Population, 2019 ACS
Name: RasterAnalysis/NoVeh_WAKE
Description: Density of No Vehicle Household Population, 2019 ACS
Single Fused Map Cache: false
Extent:
XMin: 2001383.2336536
YMin: 644031.3019681368
XMax: 2221283.2336536003
YMax: 846931.301968137
Spatial Reference: 102719
(2264)
LatestVCSWkid(0)
Initial Extent:
XMin: 2001383.2336536
YMin: 644031.3019681368
XMax: 2221283.2336536003
YMax: 846931.301968137
Spatial Reference: 102719
(2264)
LatestVCSWkid(0)
Full Extent:
XMin: 2001383.2336536
YMin: 644031.3019681368
XMax: 2221283.2336536003
YMax: 846931.301968137
Spatial Reference: 102719
(2264)
LatestVCSWkid(0)
Pixel Size X: 100.0000000000001
Pixel Size Y: 100.00000000000011
Band Count: 1
Pixel Type: F64
RasterFunction Infos: {"rasterFunctionInfos": [{
"name": "None",
"description": "",
"help": ""
}]}
Mensuration Capabilities: Basic
Inspection Capabilities:
Has Histograms: true
Has Colormap: false
Has Multi Dimensions : false
Rendering Rule:
Min Scale: 0
Max Scale: 0
Copyright Text:
Service Data Type: esriImageServiceDataTypeGeneric
Min Values: 0
Max Values: 1
Mean Values: 0.00946091055939051
Standard Deviation Values: 0.03274218199903131
Object ID Field:
Fields:
None
Default Mosaic Method: Center
Allowed Mosaic Methods:
SortField:
SortValue: null
Mosaic Operator: First
Default Compression Quality: 75
Default Resampling Method: Bilinear
Max Record Count: null
Max Image Height: 4100
Max Image Width: 15000
Max Download Image Count: null
Max Mosaic Image Count: null
Allow Raster Function: true
Allow Copy: true
Allow Analysis: true
Allow Compute TiePoints: false
Supports Statistics: false
Supports Advanced Queries: false
Use StandardizedQueries: true
Raster Type Infos:
Name: Raster Dataset
Description: Supports all ArcGIS Raster Datasets
Help:
Has Raster Attribute Table: false
Edit Fields Info: null
Ownership Based AccessControl For Rasters: null
Child Resources:
Info
Histograms
Statistics
Key Properties
Legend
Raster Function Infos
Supported Operations:
Export Image
Identify
Measure
Compute Histograms
Compute Statistics Histograms
Get Samples
Compute Class Statistics
Query Boundary
Compute Pixel Location
Compute Angles
Validate
Project