View In:
ArcGIS JavaScript
ArcGIS Online Map Viewer
ArcGIS Earth
Service Description: Proximity to Bus Stops
Name: RasterAnalysis/BusProx_WAKE
Description: Proximity to Bus Stops
Single Fused Map Cache: false
Extent:
XMin: 2001183.2336536
YMin: 643988.9686348034
XMax: 2221327.150320267
YMax: 847072.5519681368
Spatial Reference: 102719
(2264)
LatestVCSWkid(0)
Initial Extent:
XMin: 2001183.2336536
YMin: 643988.9686348034
XMax: 2221327.150320267
YMax: 847072.5519681368
Spatial Reference: 102719
(2264)
LatestVCSWkid(0)
Full Extent:
XMin: 2001183.2336536
YMin: 643988.9686348034
XMax: 2221327.150320267
YMax: 847072.5519681368
Spatial Reference: 102719
(2264)
LatestVCSWkid(0)
Pixel Size X: 328.0833333333334
Pixel Size Y: 328.08333333333337
Band Count: 1
Pixel Type: F32
RasterFunction Infos: {"rasterFunctionInfos": [{
"name": "None",
"description": "",
"help": ""
}]}
Mensuration Capabilities: Basic
Inspection Capabilities:
Has Histograms: true
Has Colormap: false
Has Multi Dimensions : false
Rendering Rule:
Min Scale: 0
Max Scale: 0
Copyright Text:
Service Data Type: esriImageServiceDataTypeGeneric
Min Values: -1.1920928955078125E-7
Max Values: 1
Mean Values: 0.15392126898328345
Standard Deviation Values: 0.28896993361329015
Object ID Field:
Fields:
None
Default Mosaic Method: Center
Allowed Mosaic Methods:
SortField:
SortValue: null
Mosaic Operator: First
Default Compression Quality: 75
Default Resampling Method: Bilinear
Max Record Count: null
Max Image Height: 4100
Max Image Width: 15000
Max Download Image Count: null
Max Mosaic Image Count: null
Allow Raster Function: true
Allow Copy: true
Allow Analysis: true
Allow Compute TiePoints: false
Supports Statistics: false
Supports Advanced Queries: false
Use StandardizedQueries: true
Raster Type Infos:
Name: Raster Dataset
Description: Supports all ArcGIS Raster Datasets
Help:
Has Raster Attribute Table: false
Edit Fields Info: null
Ownership Based AccessControl For Rasters: null
Child Resources:
Info
Histograms
Statistics
Key Properties
Legend
Raster Function Infos
Supported Operations:
Export Image
Identify
Measure
Compute Histograms
Compute Statistics Histograms
Get Samples
Compute Class Statistics
Query Boundary
Compute Pixel Location
Compute Angles
Validate
Project